Package: imcdatasets Version: 1.18.0 Command: /home/biocbuild/bbs-3.22-bioc/R/bin/R CMD build --keep-empty-dirs --no-resave-data imcdatasets StartedAt: 2025-11-06 11:25:08 -0500 (Thu, 06 Nov 2025) EndedAt: 2025-11-06 11:27:37 -0500 (Thu, 06 Nov 2025) EllapsedTime: 148.8 seconds RetCode: 0 Status: OK PackageFile: imcdatasets_1.18.0.tar.gz PackageFileSize: 1.629 MiB