Package: iModMixData Version: 1.0.0 Command: /home/biocbuild/bbs-3.22-bioc/R/bin/R CMD INSTALL iModMixData StartedAt: 2025-11-06 10:57:24 -0500 (Thu, 06 Nov 2025) EndedAt: 2025-11-06 10:57:26 -0500 (Thu, 06 Nov 2025) EllapsedTime: 1.2 seconds RetCode: 0 Status: OK