Package: iModMixData Version: 1.0.0 Command: /home/biocbuild/bbs-3.22-bioc/R/bin/R CMD check --install=check:iModMixData.install-out.txt --library=/home/biocbuild/bbs-3.22-bioc/R/site-library --timings iModMixData_1.0.0.tar.gz StartedAt: 2025-11-18 13:04:48 -0500 (Tue, 18 Nov 2025) EndedAt: 2025-11-18 13:07:15 -0500 (Tue, 18 Nov 2025) EllapsedTime: 147.2 seconds RetCode: 0 Status: OK CheckDir: iModMixData.Rcheck Warnings: 0