Package: iModMixData Version: 1.0.0 Command: /home/biocbuild/bbs-3.22-bioc/R/bin/R CMD build --keep-empty-dirs --no-resave-data iModMixData StartedAt: 2025-11-06 11:25:10 -0500 (Thu, 06 Nov 2025) EndedAt: 2025-11-06 11:26:00 -0500 (Thu, 06 Nov 2025) EllapsedTime: 49.6 seconds RetCode: 0 Status: OK PackageFile: iModMixData_1.0.0.tar.gz PackageFileSize: 11.39 KiB