Package: humanStemCell Version: 0.50.0 Command: /home/biocbuild/bbs-3.22-bioc/R/bin/R CMD INSTALL humanStemCell StartedAt: 2025-11-06 10:57:11 -0500 (Thu, 06 Nov 2025) EndedAt: 2025-11-06 10:57:19 -0500 (Thu, 06 Nov 2025) EllapsedTime: 8.3 seconds RetCode: 0 Status: OK