Package: humanStemCell Version: 0.50.0 Command: /home/biocbuild/bbs-3.22-bioc/R/bin/R CMD build --keep-empty-dirs --no-resave-data humanStemCell StartedAt: 2025-11-06 11:24:51 -0500 (Thu, 06 Nov 2025) EndedAt: 2025-11-06 11:25:54 -0500 (Thu, 06 Nov 2025) EllapsedTime: 63.7 seconds RetCode: 0 Status: OK PackageFile: humanStemCell_0.50.0.tar.gz PackageFileSize: 30.64 MiB