Package: homosapienDEE2CellScore Version: 1.6.0 Command: /home/biocbuild/bbs-3.22-bioc/R/bin/R CMD INSTALL homosapienDEE2CellScore StartedAt: 2025-11-06 10:59:57 -0500 (Thu, 06 Nov 2025) EndedAt: 2025-11-06 11:00:26 -0500 (Thu, 06 Nov 2025) EllapsedTime: 28.3 seconds RetCode: 0 Status: OK