Package: homosapienDEE2CellScore Version: 1.6.0 Command: /home/biocbuild/bbs-3.22-bioc/R/bin/R CMD build --keep-empty-dirs --no-resave-data homosapienDEE2CellScore StartedAt: 2025-11-06 11:24:26 -0500 (Thu, 06 Nov 2025) EndedAt: 2025-11-06 11:25:14 -0500 (Thu, 06 Nov 2025) EllapsedTime: 48.0 seconds RetCode: 1 Status: ERROR PackageFile: None PackageFileSize: NA