Package: homosapienDEE2CellScore Version: 1.6.0 Maintainer: Justin Marsh MaintainerEmail: j.marsh at auckland.ac.nz git_url: https://git.bioconductor.org/packages/homosapienDEE2CellScore git_branch: RELEASE_3_22 git_last_commit: e55ed33 git_last_commit_date: 2025-10-29 10:06:31 -0400 (Wed, 29 Oct 2025)