Package: hgu133plus2CellScore Version: 1.30.0 Command: /home/biocbuild/bbs-3.22-bioc/R/bin/R CMD INSTALL hgu133plus2CellScore StartedAt: 2025-11-06 10:56:25 -0500 (Thu, 06 Nov 2025) EndedAt: 2025-11-06 10:56:47 -0500 (Thu, 06 Nov 2025) EllapsedTime: 21.3 seconds RetCode: 0 Status: OK