Package: hgu133plus2CellScore Version: 1.30.0 Command: /home/biocbuild/bbs-3.22-bioc/R/bin/R CMD build --keep-empty-dirs --no-resave-data hgu133plus2CellScore StartedAt: 2025-11-06 11:23:25 -0500 (Thu, 06 Nov 2025) EndedAt: 2025-11-06 11:23:56 -0500 (Thu, 06 Nov 2025) EllapsedTime: 30.6 seconds RetCode: 0 Status: OK PackageFile: hgu133plus2CellScore_1.30.0.tar.gz PackageFileSize: 41 MiB