Package: hgu133plus2CellScore Version: 1.28.0 Command: /home/biocbuild/bbs-3.21-bioc/R/bin/R CMD INSTALL hgu133plus2CellScore StartedAt: 2025-09-30 10:56:38 -0400 (Tue, 30 Sep 2025) EndedAt: 2025-09-30 10:57:00 -0400 (Tue, 30 Sep 2025) EllapsedTime: 21.4 seconds RetCode: 0 Status: OK