Package: hgu133plus2CellScore Version: 1.28.0 Command: /home/biocbuild/bbs-3.21-bioc/R/bin/R CMD build --keep-empty-dirs --no-resave-data hgu133plus2CellScore StartedAt: 2025-09-30 11:22:09 -0400 (Tue, 30 Sep 2025) EndedAt: 2025-09-30 11:22:39 -0400 (Tue, 30 Sep 2025) EllapsedTime: 29.6 seconds RetCode: 0 Status: OK PackageFile: hgu133plus2CellScore_1.28.0.tar.gz PackageFileSize: 41 MiB