Package: healthyFlowData Version: 1.48.0 Command: /home/biocbuild/bbs-3.22-bioc/R/bin/R CMD INSTALL healthyFlowData StartedAt: 2025-11-06 10:56:28 -0500 (Thu, 06 Nov 2025) EndedAt: 2025-11-06 10:56:32 -0500 (Thu, 06 Nov 2025) EllapsedTime: 3.6 seconds RetCode: 0 Status: OK