Package: healthyFlowData Version: 1.48.0 Maintainer: Ariful Azad MaintainerEmail: aazad at purdue.edu git_url: https://git.bioconductor.org/packages/healthyFlowData git_branch: RELEASE_3_22 git_last_commit: fa78b51 git_last_commit_date: 2025-10-29 09:54:34 -0500 (Wed, 29 Oct 2025)