Package: healthyControlsPresenceChecker Version: 1.14.0 Command: /home/biocbuild/bbs-3.22-bioc/R/bin/R CMD INSTALL healthyControlsPresenceChecker StartedAt: 2025-11-06 11:01:12 -0500 (Thu, 06 Nov 2025) EndedAt: 2025-11-06 11:01:34 -0500 (Thu, 06 Nov 2025) EllapsedTime: 21.6 seconds RetCode: 0 Status: OK