Package: healthyControlsPresenceChecker Version: 1.14.0 Command: /home/biocbuild/bbs-3.22-bioc/R/bin/R CMD build --keep-empty-dirs --no-resave-data healthyControlsPresenceChecker StartedAt: 2025-11-06 11:22:44 -0500 (Thu, 06 Nov 2025) EndedAt: 2025-11-06 11:23:24 -0500 (Thu, 06 Nov 2025) EllapsedTime: 39.4 seconds RetCode: 0 Status: OK PackageFile: healthyControlsPresenceChecker_1.14.0.tar.gz PackageFileSize: 219.9 KiB