Package: harbChIP Version: 1.48.0 Command: /home/biocbuild/bbs-3.22-bioc/R/bin/R CMD INSTALL harbChIP StartedAt: 2025-11-06 10:56:31 -0500 (Thu, 06 Nov 2025) EndedAt: 2025-11-06 10:56:45 -0500 (Thu, 06 Nov 2025) EllapsedTime: 14.4 seconds RetCode: 0 Status: OK