Package: harbChIP Version: 1.48.0 Command: /home/biocbuild/bbs-3.22-bioc/R/bin/R CMD build --keep-empty-dirs --no-resave-data harbChIP StartedAt: 2025-11-06 11:21:31 -0500 (Thu, 06 Nov 2025) EndedAt: 2025-11-06 11:21:55 -0500 (Thu, 06 Nov 2025) EllapsedTime: 24.6 seconds RetCode: 0 Status: OK PackageFile: harbChIP_1.48.0.tar.gz PackageFileSize: 7.204 MiB