Package: hapmapsnp5 Version: 1.52.0 Command: /home/biocbuild/bbs-3.22-bioc/R/bin/R CMD build --keep-empty-dirs --no-resave-data hapmapsnp5 StartedAt: 2025-11-06 11:20:52 -0500 (Thu, 06 Nov 2025) EndedAt: 2025-11-06 11:22:44 -0500 (Thu, 06 Nov 2025) EllapsedTime: 111.5 seconds RetCode: 0 Status: OK PackageFile: hapmapsnp5_1.52.0.tar.gz PackageFileSize: 59.41 MiB