Package: hapmap100kxba Version: 1.50.0 Command: /home/biocbuild/bbs-3.21-bioc/R/bin/R CMD build --keep-empty-dirs --no-resave-data hapmap100kxba StartedAt: 2025-10-07 11:19:17 -0400 (Tue, 07 Oct 2025) EndedAt: 2025-10-07 11:20:12 -0400 (Tue, 07 Oct 2025) EllapsedTime: 55.6 seconds RetCode: 0 Status: OK PackageFile: hapmap100kxba_1.50.0.tar.gz PackageFileSize: 38.99 MiB