Package: h5vcData Version: 2.30.0 Command: /home/biocbuild/bbs-3.22-bioc/R/bin/R CMD build --keep-empty-dirs --no-resave-data h5vcData StartedAt: 2025-11-06 11:20:31 -0500 (Thu, 06 Nov 2025) EndedAt: 2025-11-06 11:20:34 -0500 (Thu, 06 Nov 2025) EllapsedTime: 3.4 seconds RetCode: 0 Status: OK PackageFile: h5vcData_2.30.0.tar.gz PackageFileSize: 24.83 MiB