Package: grndata Version: 1.42.0 Command: /home/biocbuild/bbs-3.22-bioc/R/bin/R CMD INSTALL grndata StartedAt: 2025-11-06 10:55:39 -0500 (Thu, 06 Nov 2025) EndedAt: 2025-11-06 10:55:47 -0500 (Thu, 06 Nov 2025) EllapsedTime: 8.2 seconds RetCode: 0 Status: OK