Package: grndata Version: 1.42.0 Command: /home/biocbuild/bbs-3.22-bioc/R/bin/R CMD build --keep-empty-dirs --no-resave-data grndata StartedAt: 2025-11-06 11:20:13 -0500 (Thu, 06 Nov 2025) EndedAt: 2025-11-06 11:20:25 -0500 (Thu, 06 Nov 2025) EllapsedTime: 11.9 seconds RetCode: 0 Status: OK PackageFile: grndata_1.42.0.tar.gz PackageFileSize: 30.15 MiB