Package: grndata Version: 1.42.0 Maintainer: Pau Bellot MaintainerEmail: pau.bellot at upc.edu git_url: https://git.bioconductor.org/packages/grndata git_branch: RELEASE_3_22 git_last_commit: 82edd20 git_last_commit_date: 2025-10-29 09:56:12 -0500 (Wed, 29 Oct 2025)