Package: gpaExample Version: 1.22.0 Command: /home/biocbuild/bbs-3.22-bioc/R/bin/R CMD check --install=check:gpaExample.install-out.txt --library=/home/biocbuild/bbs-3.22-bioc/R/site-library --timings gpaExample_1.22.0.tar.gz StartedAt: 2025-11-13 12:28:54 -0500 (Thu, 13 Nov 2025) EndedAt: 2025-11-13 12:29:38 -0500 (Thu, 13 Nov 2025) EllapsedTime: 43.6 seconds RetCode: 0 Status: OK CheckDir: gpaExample.Rcheck Warnings: 0