Package: gpaExample Version: 1.22.0 Command: /home/biocbuild/bbs-3.22-bioc/R/bin/R CMD build --keep-empty-dirs --no-resave-data gpaExample StartedAt: 2025-11-06 11:20:13 -0500 (Thu, 06 Nov 2025) EndedAt: 2025-11-06 11:20:14 -0500 (Thu, 06 Nov 2025) EllapsedTime: 1.3 seconds RetCode: 0 Status: OK PackageFile: gpaExample_1.22.0.tar.gz PackageFileSize: 11.52 MiB