Package: golubEsets Version: 1.52.0 Command: /home/biocbuild/bbs-3.22-bioc/R/bin/R CMD build --keep-empty-dirs --no-resave-data golubEsets StartedAt: 2025-11-18 11:32:15 -0500 (Tue, 18 Nov 2025) EndedAt: 2025-11-18 11:32:18 -0500 (Tue, 18 Nov 2025) EllapsedTime: 2.3 seconds RetCode: 0 Status: OK PackageFile: golubEsets_1.52.0.tar.gz PackageFileSize: 4.302 MiB