Package: genomationData Version: 1.42.0 Command: /home/biocbuild/bbs-3.22-bioc/R/bin/R CMD INSTALL genomationData StartedAt: 2025-11-06 10:55:50 -0500 (Thu, 06 Nov 2025) EndedAt: 2025-11-06 10:55:51 -0500 (Thu, 06 Nov 2025) EllapsedTime: 0.9 seconds RetCode: 0 Status: OK