Package: genomationData Version: 1.42.0 Command: /home/biocbuild/bbs-3.22-bioc/R/bin/R CMD build --keep-empty-dirs --no-resave-data genomationData StartedAt: 2025-11-06 11:19:43 -0500 (Thu, 06 Nov 2025) EndedAt: 2025-11-06 11:19:51 -0500 (Thu, 06 Nov 2025) EllapsedTime: 8.5 seconds RetCode: 0 Status: OK PackageFile: genomationData_1.42.0.tar.gz PackageFileSize: 66.49 MiB