Package: geneLenDataBase Version: 1.46.0 Command: /home/biocbuild/bbs-3.22-bioc/R/bin/R CMD INSTALL geneLenDataBase StartedAt: 2025-11-06 11:01:09 -0500 (Thu, 06 Nov 2025) EndedAt: 2025-11-06 11:02:30 -0500 (Thu, 06 Nov 2025) EllapsedTime: 80.7 seconds RetCode: 0 Status: OK