Package: gcspikelite Version: 1.48.0 Command: /home/biocbuild/bbs-3.22-bioc/R/bin/R CMD build --keep-empty-dirs --no-resave-data gcspikelite StartedAt: 2025-11-06 11:19:09 -0500 (Thu, 06 Nov 2025) EndedAt: 2025-11-06 11:20:01 -0500 (Thu, 06 Nov 2025) EllapsedTime: 52.4 seconds RetCode: 0 Status: OK PackageFile: gcspikelite_1.48.0.tar.gz PackageFileSize: 21.63 MiB