Package: gageData Version: 2.48.0 Command: /home/biocbuild/bbs-3.22-bioc/R/bin/R CMD build --keep-empty-dirs --no-resave-data gageData StartedAt: 2025-11-06 11:19:02 -0500 (Thu, 06 Nov 2025) EndedAt: 2025-11-06 11:19:07 -0500 (Thu, 06 Nov 2025) EllapsedTime: 5.0 seconds RetCode: 0 Status: OK PackageFile: gageData_2.48.0.tar.gz PackageFileSize: 10.59 MiB