Package: gDRtestData Version: 1.8.0 Command: /home/biocbuild/bbs-3.22-bioc/R/bin/R CMD INSTALL gDRtestData StartedAt: 2025-11-06 10:55:57 -0500 (Thu, 06 Nov 2025) EndedAt: 2025-11-06 10:56:00 -0500 (Thu, 06 Nov 2025) EllapsedTime: 3.0 seconds RetCode: 0 Status: OK