Package: gDRtestData Version: 1.8.0 Command: /home/biocbuild/bbs-3.22-bioc/R/bin/R CMD build --keep-empty-dirs --no-resave-data gDRtestData StartedAt: 2025-11-06 11:19:37 -0500 (Thu, 06 Nov 2025) EndedAt: 2025-11-06 11:19:42 -0500 (Thu, 06 Nov 2025) EllapsedTime: 5.3 seconds RetCode: 0 Status: OK PackageFile: gDRtestData_1.8.0.tar.gz PackageFileSize: 8.156 MiB