Package: gDRtestData Version: 1.8.0 Maintainer: Arkadiusz Gladki MaintainerEmail: gladki.arkadiusz at gmail.com git_url: https://git.bioconductor.org/packages/gDRtestData git_branch: RELEASE_3_22 git_last_commit: de7ea59 git_last_commit_date: 2025-10-29 10:05:38 -0500 (Wed, 29 Oct 2025)