Package: gDNAinRNAseqData Version: 1.10.0 Maintainer: Robert Castelo MaintainerEmail: robert.castelo at upf.edu git_url: https://git.bioconductor.org/packages/gDNAinRNAseqData git_branch: RELEASE_3_22 git_last_commit: 2b1b649 git_last_commit_date: 2025-10-29 10:05:30 -0400 (Wed, 29 Oct 2025)