Package: furrowSeg Version: 1.38.0 Command: /home/biocbuild/bbs-3.22-bioc/R/bin/R CMD INSTALL furrowSeg StartedAt: 2025-11-06 10:57:40 -0500 (Thu, 06 Nov 2025) EndedAt: 2025-11-06 10:57:46 -0500 (Thu, 06 Nov 2025) EllapsedTime: 5.7 seconds RetCode: 0 Status: OK