Package: furrowSeg Version: 1.38.0 Command: /home/biocbuild/bbs-3.22-bioc/R/bin/R CMD build --keep-empty-dirs --no-resave-data furrowSeg StartedAt: 2025-11-06 11:19:00 -0500 (Thu, 06 Nov 2025) EndedAt: 2025-11-06 11:23:59 -0500 (Thu, 06 Nov 2025) EllapsedTime: 299.1 seconds RetCode: 0 Status: OK PackageFile: furrowSeg_1.38.0.tar.gz PackageFileSize: 349.3 MiB