Package: flowWorkspaceData Version: 3.22.0 Command: /home/biocbuild/bbs-3.22-bioc/R/bin/R CMD build --keep-empty-dirs --no-resave-data flowWorkspaceData StartedAt: 2025-11-06 11:18:42 -0500 (Thu, 06 Nov 2025) EndedAt: 2025-11-06 11:18:57 -0500 (Thu, 06 Nov 2025) EllapsedTime: 15.8 seconds RetCode: 0 Status: OK PackageFile: flowWorkspaceData_3.22.0.tar.gz PackageFileSize: 71.15 MiB