Package: fission Version: 1.30.0 Command: /home/biocbuild/bbs-3.22-bioc/R/bin/R CMD build --keep-empty-dirs --no-resave-data fission StartedAt: 2025-11-06 11:17:50 -0500 (Thu, 06 Nov 2025) EndedAt: 2025-11-06 11:18:06 -0500 (Thu, 06 Nov 2025) EllapsedTime: 16.6 seconds RetCode: 0 Status: OK PackageFile: fission_1.30.0.tar.gz PackageFileSize: 427 KiB