Package: fibroEset Version: 1.52.0 Command: /home/biocbuild/bbs-3.22-bioc/R/bin/R CMD INSTALL fibroEset StartedAt: 2025-11-06 10:56:18 -0500 (Thu, 06 Nov 2025) EndedAt: 2025-11-06 10:56:21 -0500 (Thu, 06 Nov 2025) EllapsedTime: 3.0 seconds RetCode: 0 Status: OK