Package: fibroEset Version: 1.52.0 Command: /home/biocbuild/bbs-3.22-bioc/R/bin/R CMD build --keep-empty-dirs --no-resave-data fibroEset StartedAt: 2025-11-06 11:17:45 -0500 (Thu, 06 Nov 2025) EndedAt: 2025-11-06 11:17:47 -0500 (Thu, 06 Nov 2025) EllapsedTime: 2.0 seconds RetCode: 0 Status: OK PackageFile: fibroEset_1.52.0.tar.gz PackageFileSize: 1.81 MiB