Package: ffpeExampleData Version: 1.48.0 Command: /home/biocbuild/bbs-3.22-bioc/R/bin/R CMD INSTALL ffpeExampleData StartedAt: 2025-11-06 11:03:00 -0500 (Thu, 06 Nov 2025) EndedAt: 2025-11-06 11:03:29 -0500 (Thu, 06 Nov 2025) EllapsedTime: 29.8 seconds RetCode: 0 Status: OK