Package: ffpeExampleData Version: 1.48.0 Command: /home/biocbuild/bbs-3.22-bioc/R/bin/R CMD check --install=check:ffpeExampleData.install-out.txt --library=/home/biocbuild/bbs-3.22-bioc/R/site-library --timings ffpeExampleData_1.48.0.tar.gz StartedAt: 2025-11-06 12:19:32 -0500 (Thu, 06 Nov 2025) EndedAt: 2025-11-06 12:22:24 -0500 (Thu, 06 Nov 2025) EllapsedTime: 172.0 seconds RetCode: 0 Status: OK CheckDir: ffpeExampleData.Rcheck Warnings: 0