Package: faahKO Version: 1.50.0 Command: /home/biocbuild/bbs-3.22-bioc/R/bin/R CMD INSTALL faahKO StartedAt: 2025-11-06 11:02:54 -0500 (Thu, 06 Nov 2025) EndedAt: 2025-11-06 11:03:46 -0500 (Thu, 06 Nov 2025) EllapsedTime: 51.6 seconds RetCode: 0 Status: OK