Package: faahKO Version: 1.50.0 Command: /home/biocbuild/bbs-3.22-bioc/R/bin/R CMD build --keep-empty-dirs --no-resave-data faahKO StartedAt: 2025-11-06 11:17:18 -0500 (Thu, 06 Nov 2025) EndedAt: 2025-11-06 11:18:06 -0500 (Thu, 06 Nov 2025) EllapsedTime: 48.6 seconds RetCode: 0 Status: OK PackageFile: faahKO_1.50.0.tar.gz PackageFileSize: 16.03 MiB