Package: eoPredData Version: 1.4.0 Command: /home/biocbuild/bbs-3.22-bioc/R/bin/R CMD INSTALL eoPredData StartedAt: 2025-11-06 10:56:49 -0500 (Thu, 06 Nov 2025) EndedAt: 2025-11-06 10:57:02 -0500 (Thu, 06 Nov 2025) EllapsedTime: 13.1 seconds RetCode: 0 Status: OK