Package: eoPredData Version: 1.4.0 Command: /home/biocbuild/bbs-3.22-bioc/R/bin/R CMD build --keep-empty-dirs --no-resave-data eoPredData StartedAt: 2025-11-06 11:16:29 -0500 (Thu, 06 Nov 2025) EndedAt: 2025-11-06 11:16:47 -0500 (Thu, 06 Nov 2025) EllapsedTime: 17.3 seconds RetCode: 0 Status: OK PackageFile: eoPredData_1.4.0.tar.gz PackageFileSize: 292.5 KiB