Package: emtdata Version: 1.18.0 Command: /home/biocbuild/bbs-3.22-bioc/R/bin/R CMD build --keep-empty-dirs --no-resave-data emtdata StartedAt: 2025-11-06 11:16:24 -0500 (Thu, 06 Nov 2025) EndedAt: 2025-11-06 11:17:17 -0500 (Thu, 06 Nov 2025) EllapsedTime: 53.1 seconds RetCode: 0 Status: OK PackageFile: emtdata_1.18.0.tar.gz PackageFileSize: 216.8 KiB